BEGIN:VCALENDAR
VERSION:2.0
PRODID:-//Fine Arts Center - ECPv6.15.20//NONSGML v1.0//EN
CALSCALE:GREGORIAN
METHOD:PUBLISH
X-WR-CALNAME:Fine Arts Center
X-ORIGINAL-URL:https://fac.coloradocollege.edu
X-WR-CALDESC:Events for Fine Arts Center
REFRESH-INTERVAL;VALUE=DURATION:PT1H
X-Robots-Tag:noindex
X-PUBLISHED-TTL:PT1H
BEGIN:VTIMEZONE
TZID:America/Denver
BEGIN:DAYLIGHT
TZOFFSETFROM:-0700
TZOFFSETTO:-0600
TZNAME:MDT
DTSTART:20250309T090000
END:DAYLIGHT
BEGIN:STANDARD
TZOFFSETFROM:-0600
TZOFFSETTO:-0700
TZNAME:MST
DTSTART:20251102T080000
END:STANDARD
BEGIN:DAYLIGHT
TZOFFSETFROM:-0700
TZOFFSETTO:-0600
TZNAME:MDT
DTSTART:20260308T090000
END:DAYLIGHT
BEGIN:STANDARD
TZOFFSETFROM:-0600
TZOFFSETTO:-0700
TZNAME:MST
DTSTART:20261101T080000
END:STANDARD
BEGIN:DAYLIGHT
TZOFFSETFROM:-0700
TZOFFSETTO:-0600
TZNAME:MDT
DTSTART:20270314T090000
END:DAYLIGHT
BEGIN:STANDARD
TZOFFSETFROM:-0600
TZOFFSETTO:-0700
TZNAME:MST
DTSTART:20271107T080000
END:STANDARD
END:VTIMEZONE
BEGIN:VEVENT
DTSTART;TZID=America/Denver:20260718T100000
DTEND;TZID=America/Denver:20260718T113000
DTSTAMP:20260424T142652
CREATED:20260424T172556Z
LAST-MODIFIED:20260424T172556Z
UID:45026-1784368800-1784374200@fac.coloradocollege.edu
SUMMARY:Member Downtown History Stroll–America 250/Colorado 150: Seeing History in Place
DESCRIPTION:We’ve partnered with the Colorado Springs Pioneers Museum for this guided stroll through downtown Colorado Springs. We’ll reflect on the meaning of and connections to the commemoration of the America 250/Colorado 150 anniversaries. In 2026\, how can we make sense of the 250 years since the Declaration of Independence\, and 150 years of Colorado statehood? Join a knowledgeable guide on this 90-minute\, approximately 1-mile walking tour\, exploring how we have marked time throughout the history of Colorado Springs. Consider different regional anniversaries through the built environment and reflect on your own memories and observations of important events and dates.   \nThis 1 mile downtown walking tour starts and ends at The Mining Exchange Hotel (8 S. Nevada Ave.). While all guests are welcome\, this tour is designed for an adult audience. Please plan to meet in the hotel lobby at least 10 minutes early to check-in\, or earlier if you would like to order a beverage from the hotel’s coffee shop Blk Mgk (not included in ticket price). \nTickets: $10 \nGET TICKETS \nThis is a members-only event. Not a member? Join today!
URL:https://fac.coloradocollege.edu/event/member-downtown-stroll/
LOCATION:The Mining Exchange Hotel\, 8 S. Nevada Ave.\, Colorado Springs\, CO\, 80903\, United States
CATEGORIES:Member Moments,Members,Upcoming Member-Only
ATTACH;FMTTYPE=image/jpeg:https://fac.coloradocollege.edu/wp-content/uploads/2026/04/Downtown-Tour.jpg
END:VEVENT
END:VCALENDAR