BEGIN:VCALENDAR
VERSION:2.0
PRODID:-//Fine Arts Center - ECPv6.15.20//NONSGML v1.0//EN
CALSCALE:GREGORIAN
METHOD:PUBLISH
X-WR-CALNAME:Fine Arts Center
X-ORIGINAL-URL:https://fac.coloradocollege.edu
X-WR-CALDESC:Events for Fine Arts Center
REFRESH-INTERVAL;VALUE=DURATION:PT1H
X-Robots-Tag:noindex
X-PUBLISHED-TTL:PT1H
BEGIN:VTIMEZONE
TZID:America/Denver
BEGIN:DAYLIGHT
TZOFFSETFROM:-0700
TZOFFSETTO:-0600
TZNAME:MDT
DTSTART:20250309T090000
END:DAYLIGHT
BEGIN:STANDARD
TZOFFSETFROM:-0600
TZOFFSETTO:-0700
TZNAME:MST
DTSTART:20251102T080000
END:STANDARD
BEGIN:DAYLIGHT
TZOFFSETFROM:-0700
TZOFFSETTO:-0600
TZNAME:MDT
DTSTART:20260308T090000
END:DAYLIGHT
BEGIN:STANDARD
TZOFFSETFROM:-0600
TZOFFSETTO:-0700
TZNAME:MST
DTSTART:20261101T080000
END:STANDARD
BEGIN:DAYLIGHT
TZOFFSETFROM:-0700
TZOFFSETTO:-0600
TZNAME:MDT
DTSTART:20270314T090000
END:DAYLIGHT
BEGIN:STANDARD
TZOFFSETFROM:-0600
TZOFFSETTO:-0700
TZNAME:MST
DTSTART:20271107T080000
END:STANDARD
END:VTIMEZONE
BEGIN:VEVENT
DTSTART;TZID=America/Denver:20260508T100000
DTEND;TZID=America/Denver:20260508T130000
DTSTAMP:20260420T211229
CREATED:20260420T211436Z
LAST-MODIFIED:20260420T211436Z
UID:44993-1778234400-1778245200@fac.coloradocollege.edu
SUMMARY:Reimagining Cultural Preservation: Strategies to Restore and Preserve Community Murals
DESCRIPTION:Join the Colorado Springs Fine Arts Center and the Chicana/o/x Murals of Colorado Project for a three-hour online seminar. This interactive session will focus on the significance of historic and legacy community murals and tools for their restoration and preservation. Participants will learn about protecting and restoring murals and engage in discussions about their unique preservation challenges.  \nThe program is designed to be interactive\, providing an overview of the history of community muralism and exploring strategies for safeguarding these cultural landmarks. Artists will share their experiences and methods for restoring murals\, and discussions will cover the legal frameworks for protecting community murals under historic preservation laws. Additionally\, cultural and preservation organizations will share strategies and techniques for implementing successful mural restoration projects\, and participants will have the opportunity to ask questions and engage in the discussion.  \nList of Participants:  \n\nMichael Christiano\, Director of Visual Arts and Museum at Colorado Springs Fine Arts Center at Colorado College \nDavid Ocelotl Garcia\, Artist \nEmanuel Martínez\, Artist \nLucha Martínez de Luna\, Executive Director and Curator\, Chicana/o/x Murals of Colorado Project\nEmanuel Project Sehila Mota Casper\, Executive Director\, Latinos in Heritage Conservation\n\nRegister
URL:https://fac.coloradocollege.edu/event/reimagining-cultural-preservation/
LOCATION:online
CATEGORIES:Museum,Special Event
ATTACH;FMTTYPE=image/jpeg:https://fac.coloradocollege.edu/wp-content/uploads/2026/04/EmmanuelMartinez-9.17.22-19.jpg
END:VEVENT
END:VCALENDAR